Workbook
Name _019617: ご対応商品一覧!$A:$B
Name _019617: #REF!
Name _100_2018発注履歴2: #REF!
Name _100_2018発注履歴2: #REF!
Name _1001: #REF!
Name _1001: #REF!
Name _100需要先: #REF!
Name _100需要先: #REF!
Name _100売上180131: #REF!
Name _100売上実績: #REF!
Name _100発注累計: #REF!
Name _180330売上100: #REF!
Name _180330売上204: #REF!
Name _1貸出_自社資産: #REF!
Name _204: #REF!
Name _204売上実績21期: #REF!
Name _207_在庫詳細_人工血管: #REF!
Name _207_在庫詳細_人工血管_90以外: #REF!
Name _207_在庫詳細人工血管: #REF!
Name _207_受注残_人工血管: #REF!
Name _207_貸出自社資産_人工血管: #REF!
Name _207_貸出自社資産人工血管: #REF!
Name _207_売上実績_人工血管: #REF!
Name _207_売上実績人工血管: #REF!
Name _207_発注残_人工血管: #REF!
Name _207人工血管売上425: #REF!
Name _207発注残数: #REF!
Name _99_現在庫詳細情報: #REF!
Name _99_受注残: #REF!
Name _99_貸出自社: #REF!
Name _99_貸出自社資産: #REF!
Name _99_貸出自社資産_のコピー: #REF!
Name _99_貸出自社資産207: #REF!
Name _99_発注残: #REF!
Name _99在庫詳細情報の発注量計算シート反映: #REF!
Name _99貸出_自社資産_の発注量計算シート反映: #REF!
Name _99売上まとめ: #REF!
Name _99売上実績: #REF!
Name _AC2: #REF!
Name _DAT1: #REF!
Name _DAT10: #REF!
Name _DAT11: #REF!
Name _DAT12: #REF!
Name _DAT13: #REF!
Name _DAT14: #REF!
Name _DAT15: #REF!
Name _DAT16: #REF!
Name _DAT17: #REF!
Name _DAT18: #REF!
Name _DAT19: #REF!
Name _DAT2: #REF!
Name _DAT20: #REF!
Name _DAT21: #REF!
Name _DAT22: #REF!
Name _DAT23: #REF!
Name _DAT24: #REF!
Name _DAT25: #REF!
Name _DAT26: #REF!
Name _DAT27: #REF!
Name _DAT28: #REF!

Sheet  貸出・注文 ・ 使用報告書
A1: ＜ 貸出/注文 / 使用報告書 ＞
I3: 受付時間は 【9:00】から【15:00】 になります。 | AE3: ご入力・ご確認欄
I4: 時間外のご注文は翌日対応となり緊急の場合は必ずお問い合わせ下さい。
A6: コスモテック株式会社 | I6: ご注文専用FAX番号： | R6: 03-4333-0744
Q7: 電話お問合先： | R7: 03-5802-3831 | U7: (営業時間/9:00-17:00土日祝、年末年始除く)
I8: ご注文・出荷等 お問合先メールアドレス： | R8: customer-service@cosmotec.com | AG8: （PDF形式で添付下さい。）
A10: ■貴社ご注文番号： | N10: ■ご注文日： | R10: 年 | T10: 月 | W10: 日 | Y10: ■ご発注担当者
A11: ご請求先名： | I11: 左記ご請求先と納品先が異なる場合は 下記へご記入をお願いいたします | R11: ✔欄 | S11: ご注文区分 （下記のいずれかをご指定下さい） | AA11: 配送条件 ■運送会社：ヤマト運輸
I13: 納品先名 ： | S13: 使用補充出荷 (使用日 | X13: 月 | Z13: 日) | AB13: 配達 | AD13: 営業所止め（ヤマト運輸のみ）
A14: 住所： | S14: 買取出荷 | AC14: 月 | AF14: 日 | AG14: 着
S15: 短期貸出出荷（ 2週間以内 ） | AA15: 時間指定： | AD15: ・ | AE15: 時
A16: TEL: | I16: 納品先住所： | S16: （手術日 | V16: 月 | X16: 日 予定分） | AA16: ※センター名 | AH16: 【※入力必須】
A17: FAX: | S17: 長期貸出出荷（ 新規貸出 ） | AA17: （ | AI17: ）センター
A18: 病院様名 ： | H18: 様 | S18: 長期貸出出荷（ 滅菌交換 ） | AA18: ※ヤマトセンターコード:（数字6桁）
S19: その他( | Z19: ) | AA19: （ | AI19: ）
I20: TEL: | S20: ご返却( | Z20: ) | AA20: ※お受取人（ | AJ20: 様）
A21: 住所： | I21: FAX: | S21: 売上報告のみ (使用日 | X21: 月 | Z21: 日) | AA21: ※お受取人TEL＃（ | AJ21: ）
A23: No. | B23: 商品コード | E23: 商品名 | M23: 貸出数量 | O23: 使用数量 | Q23: 買取数量 | R23: ご使用時のシリアル/ロットご記入欄 | AC23: 備考欄
A24: 1 | E24: =+IF(B24="","",VLOOKUP(B24,ご対応商品一覧!$A$1:$D$139,2,FALSE))
A25: 2 | E25: =+IF(B25="","",VLOOKUP(B25,ご対応商品一覧!$A$1:$D$139,2,FALSE))
A26: 3 | E26: =+IF(B26="","",VLOOKUP(B26,ご対応商品一覧!$A$1:$D$139,2,FALSE))
A27: 4 | E27: =+IF(B27="","",VLOOKUP(B27,ご対応商品一覧!$A$1:$D$139,2,FALSE))
A28: 5 | E28: =+IF(B28="","",VLOOKUP(B28,ご対応商品一覧!$A$1:$D$139,2,FALSE))
A29: 6 | E29: =+IF(B29="","",VLOOKUP(B29,ご対応商品一覧!$A$1:$D$139,2,FALSE))
A30: 7 | E30: =+IF(B30="","",VLOOKUP(B30,ご対応商品一覧!$A$1:$D$139,2,FALSE))
A31: 8 | E31: =+IF(B31="","",VLOOKUP(B31,ご対応商品一覧!$A$1:$D$139,2,FALSE))
A32: 9 | E32: =+IF(B32="","",VLOOKUP(B32,ご対応商品一覧!$A$1:$D$139,2,FALSE))
A33: 10 | E33: =+IF(B33="","",VLOOKUP(B33,ご対応商品一覧!$A$1:$D$139,2,FALSE))
A35: ご連絡事項等： | X35: 商品返却先:
X36: コスモテック物流センター 〒143-0006 東京都大田区平和島3-6-1 東京団地倉庫A-1棟4F TEL:03-5767-7113

Sheet ご対応商品一覧
A1: 商品コード | B1: 商品名 | D1: 備考
A2: 019514 | B2: HMDV25/76#HEMASHIELD KNITTED FABRICS | C2: 受注生産品
A3: 019517 | B3: HMDV25/152#HEMASHIELD KNITTED FABRICS | C3: 受注生産品 | D3: 国内在庫限り 2022年3月販売終了
A4: 019524 | B4: HMDV50/76#HEMASHIELD KNITTED FABRICS
A5: 019527 | B5: HMDV50/152#HEMASHIELD KNITTED FABRICS | C5: 受注生産品
A6: 019624 | B6: HWDV50/75P#Hemashield Woven Fabrics
A7: 019627 | B7: HWDV50/150P#Hemashield Woven Fabrics
A8: 21000 | B8: 6X10,SW,ADVANTA VXT
A9: 21007 | B9: 6X30,SW,ADVANTA VXT
A10: 21015 | B10: 4X50,SW,ADVANTA VXT
A11: 21276 | B11: 4X10,SW,ADVANTA VXT
A12: 21277 | B12: 5X10,SW,ADVANTA VXT
A13: 22016 | B13: 5X50,SW,ADVANTA VXT,GDS
A14: 22017 | B14: 6X50,SW,ADVANTA VXT,GDS
A15: 22058 | B15: 5X40,SW,H,ADVANTA VXT,GDS | C15: 受注生産品
A16: 22062 | B16: 6X50,SW,H,ADVANTA VXT,GDS | C16: 受注生産品
A17: 22092 | B17: 6X45,SW,CH,ADVANTA VXT,GDS
A18: 22114 | B18: 4-6X45,SW,SH,ADVANTA VXT,GDS
A19: 22220 | B19: 6X70,TW,H,ADVANTA VXT,GDS | C19: 受注生産品
A20: 22221 | B20: 7X70,TW,H,ADVANTA VXT,GDS | C20: 受注生産品
A21: 22222 | B21: 8X70,TW,H,ADVANTA VXT,GDS | C21: 受注生産品
A22: 25053 | B22: 6MM X 10CM, GRAFT | C22: 受注生産品
A23: 25058 | B23: 6MMX50CM FLIXENE GRAFT,GW,W/GDS
A24: 25061 | B24: 6MMX40CM FLIXENE GRAFT,GW,W/GDS | C24: 受注生産品
A25: 25125 | B25: 6MMX30CM FLIXENE GRAFT,GW,W/GDS
A26: 25128 | B26: FLIXENE 4-6MMX35CM GWT-GW,W/DBL GDS | C26: 受注生産品
A27: 25137 | B27: 4-6MMX45CM FLIXENE GWT-GW,W/DBL GDS
A28: 26006 | B28: TUNNELER, TIPS
A29: 26007 | B29: TUNNELER, 6mm/TIPS
A30: 26008 | B30: TUNNELER, 7mm/TIPS
A31: 26009 | B31: TUNNELER, 8mm/TIPS
A32: 26010 | B32: TUNNELER, 10mm/TIPS
A33: 26012 | B33: TUNNELER, AV-1
A34: 26013 | B34: TUNNELER, AV-2
A35: 26014 | B35: TUNNELER, PV-1
A36: 26015 | B36: TUNNELER,PV-2
A37: 26018 | B37: TUNNELER,4MM/TIPS
A38: 26019 | B38: TUNNELER,5MM/TIPS
... A43: 26024 | B43: TUNNELER,10MM BLUNT TIPS
A44: 26026 | B44: AV/PV COMBO TUNNELER SET W/TRAY | D44: 2023年5月 一時販売停止
A45: 26027 | B45: AV/PV COMBINATION TRAY | D45: 2023年5月 一時販売停止
A46: 085127 | B46: HMDV1207#HEMASHIELD GOLD KNITTED
A47: 085147 | B47: HMDV1407#HEMASHIELD GOLD KNITTED | C47: 受注生産品 | D47: 国内在庫限り 2022年3月販売終了
A48: 085148 | B48: HMDV1408#HEMASHIELD GOLD KNITTED
A49: 085168 | B49: HMDV1608#HEMASHIELD GOLD KNITTED
A50: 085169 | B50: HMDV1609#HEMASHIELD GOLD KNITTED
A51: 085180 | B51: HMDV1810#HEMASHIELD GOLD KNITTED
A52: 085189 | B52: HMDV1809#HEMASHIELD GOLD KNITTED
A53: 085201 | B53: HMDV2010#HEMASHIELD GOLD KNITTED
A54: 085211 | B54: HMDV2011#HEMASHIELD GOLD KNITTED
A55: 085221 | B55: HMDV2211#HEMASHIELD GOLD KNITTED | C55: 受注生産品
A56: 085241 | B56: HMDV2412#HEMASHIELD GOLD KNITTED | C56: 受注生産品
A57: 095206 | B57: HMDV0006-60#HEMASHIELD GOLD KNITTED | C57: 受注生産品
A58: 095207 | B58: HMDV0007-60#HEMASHIELD GOLD KNITTED | C58: 受注生産品
A59: 095208 | B59: HMDV0008-60#HEMASHIELD GOLD KNITTED
A60: 095406 | B60: HMDV0006-30#HEMASHIELD GOLD KNITTED | C60: 受注生産品
A61: 095408 | B61: HMDV0008-30#HEMASHIELD GOLD KNITTED
A62: 095410 | B62: HMDV0010-30#HEMASHIELD GOLD KNITTED | C62: 受注生産品
A63: 019579P | B63: FIN08/76#HEMASHIELD PLATINUM FINES
A64: 166148P | B64: H P WDV/BIF/14mm×8mm
A65: 166168P | B65: H P WDV/BIF/16mm×8mm
A66: 166169P | B66: H P WDV/BIF/16mm×9mm
A67: 166180P | B67: H P WDV/BIF/18mm×10mm
A68: 166189P | B68: H P WDV/BIF/18mm×9mm
A69: 166201P | B69: H P WDV/BIF/20mm×10mm
A70: 166211P | B70: H P WDV/BIF/20mm×11mm
A71: 166221P | B71: H P WDV/BIF/22mm×11mm
A72: 166241P | B72: H P WDV/BIF/24mm×12mm | C72: 受注生産品
A73: 175208P | B73: H P WDV/ST/8mm×30cm
A74: 175210P | B74: H P WDV/ST/10mm×30cm
A75: 175407P | B75: H P WDV/ST/7mm×60cm | C75: 受注生産品
A76: 175408P | B76: H P WDV/ST/8mm×60cm
A77: 175410P | B77: H P WDV/ST/10mm×60cm
A78: 175412P | B78: H P WDV/ST/12mm×30cm
A79: 175414P | B79: H P WDV/ST/14mm×30cm
A80: 175416P | B80: H P WDV/ST/16mm×30cm
A81: 175418P | B81: H P WDV/ST/18mm×30cm
A82: 175420P | B82: H P WDV/ST/20mm×30cm
A83: 175422P | B83: H P WDV/ST/22mm×30cm
A84: 175424P | B84: H P WDV/ST/24mm×30cm
A85: 175426P | B85: H P WDV/ST/26mm×30cm
A86: 175428P | B86: H P WDV/ST/28mm×30cm
A87: 175430P | B87: H P WDV/ST/30mm×30cm | C87: 受注生産品
A88: 175432P | B88: H P WDV/ST/32mm×30cm | C88: 受注生産品
A89: 175434P | B89: H P WDV/ST/34mm×30cm | C89: 受注生産品
A90: 175724AP | B90: H P WDV/4B-Angle/24mm
A91: 175726AP | B91: H P WDV/4B-Angle/26mm
A92: 175728AP | B92: H P WDV/4B-Angle/28mm
A93: 175730AP | B93: H P WDV/4B-Angle/30mm | C93: 受注生産品
A94: 175822P | B94: H P WDV/1B/22mm | C94: 受注生産品 | D94: 国内在庫限り 2022年3月販売終了
A95: 175824P | B95: H P WDV/1B/24mm
A96: 175826P | B96: H P WDV/1B/26mm
A97: 175828P | B97: H P WDV/1B/28mm
A98: 175830P | B98: H P WDV/1B/30mm | C98: 受注生産品
A99: 175912P | B99: HWDV3B120808#Hem. Platinum Woven
A100: 175924P | B100: H P WDV/4B/24mm
A101: 175926P | B101: H P WDV/4B/26mm
A102: 175928P | B102: H P WDV/4B/28mm
A103: AT1 | B103: Atrium ﾄﾝﾈﾗｰ ﾃﾞﾓｾｯﾄ
A104: IGK0008-70 | B104: IGK0008-70#InterGard K
...

Sheet 販売終了・後継切り替え品
A1: # | B1: 商品コード | C1: 商品名 | D1: 備考
A2: =ROW()-1 -> 1 | B2: 019579 | C2: .8 cm x 7.6 cm Hemshld Finesse | D2: 販売終了 | E2: P品番へ
A3: =ROW()-1 -> 2 | B3: 019617 | C3: HWDV25/150P#Hemashield Woven Fabrics | D3: 販売終了 | E3: 2022年3月 販売終了
A4: =ROW()-1 -> 3 | B4: 21279 | C4: 5X10,SW,H,ADVANTA VXT | D4: 販売終了 | E4: 2021年4月 販売終了
A5: =ROW()-1 -> 4 | B5: 22011 | C5: 5X40,SW,ADVANTA VXT,GDS | D5: 販売終了 | E5: 販売終了 50cmサイズへ
A6: =ROW()-1 -> 5 | B6: 22012 | C6: 6X40,SW,ADVANTA VXT,GDS | D6: 販売終了 | E6: 販売終了 50cmサイズへ
A7: =ROW()-1 -> 6 | B7: 22059 | C7: 6X40,SW,H,ADVANTA VXT,GDS | D7: 販売終了 | E7: 販売終了 50cmサイズへ
A8: =ROW()-1 -> 7 | B8: 22063 | C8: 7X50,SW,H,ADVANTA VXT,GDS | D8: 販売終了 | E8: 2021年4月 販売終了
A9: =ROW()-1 -> 8 | B9: 22064 | C9: 8X50,SW,H,ADVANTA VXT,GDS | D9: 販売終了 | E9: 2021年4月 販売終了
A10: =ROW()-1 -> 9 | B10: 22071 | C10: 7X70,SW,H,ADVANTA VXT,GDS | D10: 販売終了 | E10: 2021年4月 販売終了
A11: =ROW()-1 -> 10 | B11: 22072 | C11: 8X70,SW,H,ADVANTA VXT,GDS | D11: 販売終了 | E11: 2021年4月 販売終了
A12: =ROW()-1 -> 11 | B12: 22124 | C12: 4-6X45,SW,SH,CH,ADVANTA VXT,GDS | D12: 販売終了 | E12: 2021年4月 販売終了
A13: =ROW()-1 -> 12 | B13: 22212 | C13: 6X50,TW,H,ADVANTA VXT,GDS | D13: 販売終了 | E13: 販売終了 70cmサイズへ
... A117: =ROW()-1 -> 116 | B117: IGW2412 | C117: IGW2412#InterGard W | D117: 販売終了 | E117: 2022年8月 販売終了
